BEGIN:VCALENDAR
VERSION:2.0
PRODID:-//Avi Expeditions - ECPv6.15.20//NONSGML v1.0//EN
CALSCALE:GREGORIAN
METHOD:PUBLISH
X-ORIGINAL-URL:https://aviexpeditions.com
X-WR-CALDESC:Events for Avi Expeditions
REFRESH-INTERVAL;VALUE=DURATION:PT1H
X-Robots-Tag:noindex
X-PUBLISHED-TTL:PT1H
BEGIN:VTIMEZONE
TZID:UTC
BEGIN:STANDARD
TZOFFSETFROM:+0000
TZOFFSETTO:+0000
TZNAME:UTC
DTSTART:20250101T000000
END:STANDARD
END:VTIMEZONE
BEGIN:VEVENT
DTSTART;VALUE=DATE:20260426
DTEND;VALUE=DATE:20260503
DTSTAMP:20260422T084343
CREATED:20260314T155911Z
LAST-MODIFIED:20260318T141146Z
UID:749-1777161600-1777766399@aviexpeditions.com
SUMMARY:Mt Kilimanjaro- Marangu Route
DESCRIPTION:Climb: Mt Kilimanjaro via Marangu Route. \nDates: 26th April\, 2026 – 2nd May\, 2026 \nPick-up Point: Nairobi/Moshi \nCharges:\nEast African: KES. 98\,000\nNon-East African Citizens: $1\,950 \nClimbing Schedule: \nDay 1: Sunday\, 26th April\nArrival in Moshi \n\nDepart Nairobi early in the morning to Moshi\, Tanzania (approx. 8-hour drive).\nCheck into your hotel in Moshi.\nPre-climb briefing with our guides\, gear check\, and itinerary overview.\n\nAccommodation: Hotel in Moshi.\nMeals: Dinner. \nDay 2: Monday\, 27th April\nMoshi to Marangu Gate to Mandara Hut \n\nTransfer from Moshi to Marangu Gate (1\,870m).\nRegister at the gate and begin trekking through the lush rainforest to Mandara Hut (2\,700m).\n\nTrekking Distance: ~8 km (5–7 hours).\nElevation Gain: ~830m.\nAccommodation: Mandara Hut.\nMeals: Breakfast\, lunch\, and dinner. \nDay 3: Tuesday\, 28th April\nMandara Hut to Horombo Hut \n\nDepart Mandara Hut and trek through heather and moorland terrain to Horombo Hut (3\,720m).\nCatch stunning views of Kibo and Mawenzi peaks.\n\nTrekking Distance: ~12 km (6–8 hours).\nElevation Gain: ~1\,020m.\nAccommodation: Horombo Hut.\nMeals: Breakfast\, lunch\, and dinner. \nDay 4: Wednesday\, 29th April\nHorombo Hut to Kibo Hut \n\nAscend through alpine desert to Kibo Hut (4\,700m).\nEarly dinner and rest before the midnight summit attempt.\n\nTrekking Distance: ~10 km (5–7 hours).\nElevation Gain: ~980m.\nAccommodation: Kibo Hut.\nMeals: Breakfast\, lunch\, and dinner. \nDay 5: Thursday\, 30th April\nKibo Hut to Uhuru Peak to Horombo Hut \n\nBegin your summit attempt around midnight.\nTrek via Gilman’s Point (5\,685m) to Uhuru Peak (5\,895m)\, the highest point in Africa.\nAfter celebrating at the summit\, descend back to Horombo Hut for the night.\n\nTrekking Distance: ~15 km (10–14 hours).\nElevation Gain: ~1\,195m ascent\, ~2\,175m descent.\nAccommodation: Horombo Hut.\nMeals: Breakfast\, lunch\, and dinner. \nDay 6: Friday\, 1st May\nHorombo Hut to Marangu Gate to Moshi \n\nDescend through the rainforest to Marangu Gate (1\,870m).\nReceive your summit certificate and transfer back to Moshi for the night.\n\nTrekking Distance: ~20 km (5–7 hours).\nElevation Loss: ~1\,850m.\nAccommodation: Hotel in Moshi.\nMeals: Breakfast and lunch. \nDay 7: Saturday\, 2nd May’\nReturn to Nairobi \n\nTake a morning shuttle from Moshi back to Nairobi\, arriving in the afternoon.\n\nMeals: Breakfast. \nEND OF THE TRIP. \nHIKING GEAR CHECKLIST \n\n\n\n\n\n\n\n\n\nCategory\nItems\n\n\n\n\nHead + Neck\nBeanie\, Sun Hats/Caps\, Balaclava/Bandana/Buffs/Neck Gaiter\n\n\nChest + Arms\nMoisture-wicking thermal top for base layer\, Fleece Jacket/Down Jacket\, Summit Jacket (windproof+waterproof)\, Gloves (warm+waterproof)\n\n\nLower Body\nHiking pants\, Thermal Tights\, Shell/Waterproof rain pants\n\n\nFootwear\nHiking boots/shoes\, Hiking socks\n\n\nEssential Accessories\nTrekking Poles\, Gaiters\, Hydration Bladder (2-3L)\, Water filter or purification tablets (optional)\, Head-Torch\, Poncho/Rain Gear\, Sunglasses (Polarized)\n\n\nPersonal Items\nPortable Power Bank\, Camera\, Personal Meds\, Toiletries\, Pocket money for tips\, Preferred trail snacks\n\n\nCamping Gear\nSleeping Bag\, Camping Sandals/Crocs\, Hot Water Bottle.\n\n\n\n\n\n\n\n\n\nIf you need help sourcing gear for your Mt. Kilimanjaro adventure\, we’re happy to guide you to reliable places where you can purchase quality items. Alternatively\, we also offer gear for hire\, including essentials you may need for the trek. Our team is here to assist you with your preparation every step of the way to ensure you’re fully equipped for the journey. \nCOST INCLUDES: \n\nAll ground transfers.\nHotel accommodation on the day before and day after the hike.\n3 Meals a day while on the mountain and boiled water.\nPark entry\, accommodation (Banda) fees\, and all Government taxes.\nFees for ground rescue and oxygen cylinders in case of emergencies.\nEmergency air evacuation insurance (covering helicopter rescue)\nProfessional Guide\, Porter’s support and Chef services.\nLeave No Trace Adventure.\n\nCOST EXCLUDES: \n\nHiring of personal mountain hiking gears like; Sleeping bags\, Hiking boots etc.\nHealth and travel Insurance.\nInternational Flights and Visa Fees.\nLunch and dinner in the hotels.\nPersonal snacks.\nTips to the climbing crew.\nAnything else not listed above.\n\nPAYMENT DETAILS: \nMPESA Pay bill No: 880100 \nAccount Number: 046641 \nPayment Terms: \n\nReservation Deposit: A non-refundable deposit of 40% of the total cost is required at the time of booking to secure your spot\, and plan for logistics.\n⁠For full Payment: The remaining balance must be paid in full at least  2 weeks before the scheduled tour date.\n\nCancellations and Refund Policy: \n\n\n\nAll cancellations must be submitted in writing by the client. The effective date of cancellation shall be the date the written notice is received.\nCancellations made more than thirty (30) days prior to the scheduled departure date: The client shall receive a refund of amounts paid less the non-refundable reservation deposit.\nCancellations made between fourteen (14) and thirty (30) days prior to the scheduled departure date: The client shall forfeit seventy percent (70%) of the total trip cost. Any remaining balance paid\, if applicable\, shall be refunded.\nCancellations made less than ten (10) days prior to the scheduled departure date: The client shall forfeit one hundred percent (100%) of all payments made. No refunds shall be issued.\nNo-Show Policy: No refunds will be issued for no-shows.\n\n\n\nPS. Detailed timings\, itinerary\, and additional preparation tips will be shared upon trip confirmation. \nCall or WhatsApp us directly here to book your slot.
URL:https://aviexpeditions.com/event/mt-kilimanjaro-marangu-route/
ATTACH;FMTTYPE=image/jpeg:https://aviexpeditions.com/wp-content/uploads/2024/10/WhatsApp-Image-2024-10-11-at-10.21.56_199df792.jpg
END:VEVENT
END:VCALENDAR